BEGIN:VCALENDAR
VERSION:2.0
PRODID:-//MCB Bregenz - ECPv6.15.20//NONSGML v1.0//EN
CALSCALE:GREGORIAN
METHOD:PUBLISH
X-WR-CALNAME:MCB Bregenz
X-ORIGINAL-URL:https://mcb-bregenz.at
X-WR-CALDESC:Veranstaltungen für MCB Bregenz
REFRESH-INTERVAL;VALUE=DURATION:PT1H
X-Robots-Tag:noindex
X-PUBLISHED-TTL:PT1H
BEGIN:VTIMEZONE
TZID:Europe/Amsterdam
BEGIN:DAYLIGHT
TZOFFSETFROM:+0100
TZOFFSETTO:+0200
TZNAME:CEST
DTSTART:20250330T010000
END:DAYLIGHT
BEGIN:STANDARD
TZOFFSETFROM:+0200
TZOFFSETTO:+0100
TZNAME:CET
DTSTART:20251026T010000
END:STANDARD
BEGIN:DAYLIGHT
TZOFFSETFROM:+0100
TZOFFSETTO:+0200
TZNAME:CEST
DTSTART:20260329T010000
END:DAYLIGHT
BEGIN:STANDARD
TZOFFSETFROM:+0200
TZOFFSETTO:+0100
TZNAME:CET
DTSTART:20261025T010000
END:STANDARD
BEGIN:DAYLIGHT
TZOFFSETFROM:+0100
TZOFFSETTO:+0200
TZNAME:CEST
DTSTART:20270328T010000
END:DAYLIGHT
BEGIN:STANDARD
TZOFFSETFROM:+0200
TZOFFSETTO:+0100
TZNAME:CET
DTSTART:20271031T010000
END:STANDARD
END:VTIMEZONE
BEGIN:VEVENT
DTSTART;TZID=Europe/Amsterdam:20260521T190000
DTEND;TZID=Europe/Amsterdam:20260521T190000
DTSTAMP:20260424T095541
CREATED:20260330T052853Z
LAST-MODIFIED:20260414T063340Z
UID:5698-1779390000-1779390000@mcb-bregenz.at
SUMMARY:MCB Clubabend
DESCRIPTION:
URL:https://mcb-bregenz.at/event/mcb-clubabend-27/
LOCATION:Flugplatz MCB Bregenz\, Königswiesen\, 6971 Fußach\, Österreich
CATEGORIES:MCB Veranstaltung
ATTACH;FMTTYPE=image/png:https://mcb-bregenz.at/wp-content/uploads/events-mcb.png
END:VEVENT
BEGIN:VEVENT
DTSTART;TZID=Europe/Amsterdam:20260606T100000
DTEND;TZID=Europe/Amsterdam:20260606T180000
DTSTAMP:20260424T095541
CREATED:20251121T081408Z
LAST-MODIFIED:20260206T145433Z
UID:5595-1780740000-1780768800@mcb-bregenz.at
SUMMARY:MCB Freundschaftsfliegen
DESCRIPTION:MCB Freundschaftsfliegen 2026
URL:https://mcb-bregenz.at/event/mcb-freundschaftsfliegen/
LOCATION:Flugplatz MCB Bregenz\, Königswiesen\, 6971 Fußach\, Österreich
CATEGORIES:Flugtag,MCB Veranstaltung
ATTACH;FMTTYPE=image/jpeg:https://mcb-bregenz.at/wp-content/uploads/events-flugtag.jpg
END:VEVENT
BEGIN:VEVENT
DTSTART;TZID=Europe/Amsterdam:20260912T100000
DTEND;TZID=Europe/Amsterdam:20260912T180000
DTSTAMP:20260424T095541
CREATED:20251121T081551Z
LAST-MODIFIED:20260206T145506Z
UID:5599-1789207200-1789236000@mcb-bregenz.at
SUMMARY:Dreiländereck Helitreffen
DESCRIPTION:21. Dreiländereck Helitreffen
URL:https://mcb-bregenz.at/event/dreilaendereck-helitreffen/
LOCATION:Flugplatz MCB Bregenz\, Königswiesen\, 6971 Fußach\, Österreich
CATEGORIES:Flugtag,MCB Veranstaltung
ATTACH;FMTTYPE=image/jpeg:https://mcb-bregenz.at/wp-content/uploads/events-helitreffen-2024.jpg
END:VEVENT
BEGIN:VEVENT
DTSTART;VALUE=DATE:20261003
DTEND;VALUE=DATE:20261004
DTSTAMP:20260424T095541
CREATED:20260309T080348Z
LAST-MODIFIED:20260309T080348Z
UID:5677-1790985600-1791071999@mcb-bregenz.at
SUMMARY:Bregenzerwälder Helitreffen
DESCRIPTION:Ersatztermin 4.10.
URL:https://mcb-bregenz.at/event/bregenzerwaelder-helitreffen/
LOCATION:Flugplatz MSFB Bregenzerwald\, Modellsportflieger Bregenzerwald\, Schnepfau\, Österreich
CATEGORIES:Flugtag
ATTACH;FMTTYPE=image/jpeg:https://mcb-bregenz.at/wp-content/uploads/events-flugtag.jpg
END:VEVENT
END:VCALENDAR