BEGIN:VCALENDAR
VERSION:2.0
PRODID:-//MCB Bregenz - ECPv6.15.20//NONSGML v1.0//EN
CALSCALE:GREGORIAN
METHOD:PUBLISH
X-ORIGINAL-URL:https://mcb-bregenz.at
X-WR-CALDESC:Veranstaltungen für MCB Bregenz
REFRESH-INTERVAL;VALUE=DURATION:PT1H
X-Robots-Tag:noindex
X-PUBLISHED-TTL:PT1H
BEGIN:VTIMEZONE
TZID:Europe/Amsterdam
BEGIN:DAYLIGHT
TZOFFSETFROM:+0100
TZOFFSETTO:+0200
TZNAME:CEST
DTSTART:20230326T010000
END:DAYLIGHT
BEGIN:STANDARD
TZOFFSETFROM:+0200
TZOFFSETTO:+0100
TZNAME:CET
DTSTART:20231029T010000
END:STANDARD
BEGIN:DAYLIGHT
TZOFFSETFROM:+0100
TZOFFSETTO:+0200
TZNAME:CEST
DTSTART:20240331T010000
END:DAYLIGHT
BEGIN:STANDARD
TZOFFSETFROM:+0200
TZOFFSETTO:+0100
TZNAME:CET
DTSTART:20241027T010000
END:STANDARD
BEGIN:DAYLIGHT
TZOFFSETFROM:+0100
TZOFFSETTO:+0200
TZNAME:CEST
DTSTART:20250330T010000
END:DAYLIGHT
BEGIN:STANDARD
TZOFFSETFROM:+0200
TZOFFSETTO:+0100
TZNAME:CET
DTSTART:20251026T010000
END:STANDARD
END:VTIMEZONE
BEGIN:VEVENT
DTSTART;TZID=Europe/Amsterdam:20240101T130000
DTEND;TZID=Europe/Amsterdam:20240101T130000
DTSTAMP:20260424T111208
CREATED:20231227T082820Z
LAST-MODIFIED:20231227T082820Z
UID:4244-1704114000-1704114000@mcb-bregenz.at
SUMMARY:MCB Neujahrsfliegen
DESCRIPTION:
URL:https://mcb-bregenz.at/event/mcb-neujahrsfliegen/
LOCATION:Flugplatz MCB Bregenz\, Königswiesen\, 6971 Fußach\, Österreich
CATEGORIES:MCB Veranstaltung
ATTACH;FMTTYPE=image/png:https://mcb-bregenz.at/wp-content/uploads/events-mcb.png
END:VEVENT
BEGIN:VEVENT
DTSTART;TZID=Europe/Amsterdam:20240112T190000
DTEND;TZID=Europe/Amsterdam:20240112T190000
DTSTAMP:20260424T111208
CREATED:20231209T201641Z
LAST-MODIFIED:20231209T201715Z
UID:4225-1705086000-1705086000@mcb-bregenz.at
SUMMARY:MCB Jahreshauptversammlung 2023/24
DESCRIPTION:
URL:https://mcb-bregenz.at/event/mcb-jahreshauptversammlung-2023-24/
LOCATION:Gasthaus Goldener Hirschen\, Kirchstraße 8\, Bregenz\, 6900\, Österreich
CATEGORIES:MCB Veranstaltung
ATTACH;FMTTYPE=image/png:https://mcb-bregenz.at/wp-content/uploads/events-mcb.png
END:VEVENT
END:VCALENDAR