BEGIN:VCALENDAR
VERSION:2.0
PRODID:-//MCB Bregenz - ECPv6.15.20//NONSGML v1.0//EN
CALSCALE:GREGORIAN
METHOD:PUBLISH
X-ORIGINAL-URL:https://mcb-bregenz.at
X-WR-CALDESC:Veranstaltungen für MCB Bregenz
REFRESH-INTERVAL;VALUE=DURATION:PT1H
X-Robots-Tag:noindex
X-PUBLISHED-TTL:PT1H
BEGIN:VTIMEZONE
TZID:Europe/Amsterdam
BEGIN:DAYLIGHT
TZOFFSETFROM:+0100
TZOFFSETTO:+0200
TZNAME:CEST
DTSTART:20230326T010000
END:DAYLIGHT
BEGIN:STANDARD
TZOFFSETFROM:+0200
TZOFFSETTO:+0100
TZNAME:CET
DTSTART:20231029T010000
END:STANDARD
BEGIN:DAYLIGHT
TZOFFSETFROM:+0100
TZOFFSETTO:+0200
TZNAME:CEST
DTSTART:20240331T010000
END:DAYLIGHT
BEGIN:STANDARD
TZOFFSETFROM:+0200
TZOFFSETTO:+0100
TZNAME:CET
DTSTART:20241027T010000
END:STANDARD
BEGIN:DAYLIGHT
TZOFFSETFROM:+0100
TZOFFSETTO:+0200
TZNAME:CEST
DTSTART:20250330T010000
END:DAYLIGHT
BEGIN:STANDARD
TZOFFSETFROM:+0200
TZOFFSETTO:+0100
TZNAME:CET
DTSTART:20251026T010000
END:STANDARD
END:VTIMEZONE
BEGIN:VEVENT
DTSTART;TZID=Europe/Amsterdam:20240302T090000
DTEND;TZID=Europe/Amsterdam:20240302T103000
DTSTAMP:20260422T102758
CREATED:20231023T074625Z
LAST-MODIFIED:20240213T101638Z
UID:4178-1709370000-1709375400@mcb-bregenz.at
SUMMARY:MCB Hallenfliegen
DESCRIPTION:
URL:https://mcb-bregenz.at/event/mcb-hallenfliegen-12/
LOCATION:Sporthalle am See\, Seestraße 60\, Hard\, 6971\, Österreich
CATEGORIES:MCB Veranstaltung
ATTACH;FMTTYPE=image/png:https://mcb-bregenz.at/wp-content/uploads/events-hallenfliegen.png
END:VEVENT
BEGIN:VEVENT
DTSTART;VALUE=DATE:20240309
DTEND;VALUE=DATE:20240311
DTSTAMP:20260422T102758
CREATED:20230309T080046Z
LAST-MODIFIED:20240202T064528Z
UID:3711-1709942400-1710115199@mcb-bregenz.at
SUMMARY:Rotor Live
DESCRIPTION:
URL:https://mcb-bregenz.at/event/rotor-live-2/
LOCATION:Iffezheim Galopprennbahn\, Rennbahnstraße 16\, Iffezheim\, Deutschland
CATEGORIES:Messe
ATTACH;FMTTYPE=image/jpeg:https://mcb-bregenz.at/wp-content/uploads/events-rotor.jpg
END:VEVENT
BEGIN:VEVENT
DTSTART;TZID=Europe/Amsterdam:20240321T190000
DTEND;TZID=Europe/Amsterdam:20240321T190000
DTSTAMP:20260422T102758
CREATED:20240304T122958Z
LAST-MODIFIED:20240305T100704Z
UID:4415-1711047600-1711047600@mcb-bregenz.at
SUMMARY:MCB Clubabend
DESCRIPTION:
URL:https://mcb-bregenz.at/event/mcb-clubabend-9/
LOCATION:Blaha-Hof Höchst\, Bonigstraße 19\, 6973 Höchst\, Österreich
CATEGORIES:MCB Veranstaltung
ATTACH;FMTTYPE=image/png:https://mcb-bregenz.at/wp-content/uploads/events-mcb.png
END:VEVENT
BEGIN:VEVENT
DTSTART;TZID=Europe/Amsterdam:20240323T090000
DTEND;TZID=Europe/Amsterdam:20240323T110000
DTSTAMP:20260422T102758
CREATED:20231023T074704Z
LAST-MODIFIED:20231227T090114Z
UID:4180-1711184400-1711191600@mcb-bregenz.at
SUMMARY:MCB Hallenfliegen
DESCRIPTION:
URL:https://mcb-bregenz.at/event/mcb-hallenfliegen-13/
LOCATION:Sporthalle am See\, Seestraße 60\, Hard\, 6971\, Österreich
CATEGORIES:MCB Veranstaltung
ATTACH;FMTTYPE=image/png:https://mcb-bregenz.at/wp-content/uploads/events-hallenfliegen.png
END:VEVENT
BEGIN:VEVENT
DTSTART;TZID=Europe/Amsterdam:20240323T090000
DTEND;TZID=Europe/Amsterdam:20240323T130000
DTSTAMP:20260422T102758
CREATED:20240216T071011Z
LAST-MODIFIED:20240320T115615Z
UID:4382-1711184400-1711198800@mcb-bregenz.at
SUMMARY:WEGEN SCHLECHTWETTER VERSCHOBEN! - MCB Frühjahrsputz
DESCRIPTION:Wegen Schlechtwetter verschoben auf nach Ostern\, genauer Termin wird noch bekanntgegeben!
URL:https://mcb-bregenz.at/event/mcb-fruehjahrsputz-2/
LOCATION:Flugplatz MCB Bregenz\, Königswiesen\, 6971 Fußach\, Österreich
CATEGORIES:MCB Veranstaltung
ATTACH;FMTTYPE=image/png:https://mcb-bregenz.at/wp-content/uploads/events-mcb.png
END:VEVENT
END:VCALENDAR