BEGIN:VCALENDAR
VERSION:2.0
PRODID:-//MCB Bregenz - ECPv6.15.20//NONSGML v1.0//EN
CALSCALE:GREGORIAN
METHOD:PUBLISH
X-WR-CALNAME:MCB Bregenz
X-ORIGINAL-URL:https://mcb-bregenz.at
X-WR-CALDESC:Veranstaltungen für MCB Bregenz
REFRESH-INTERVAL;VALUE=DURATION:PT1H
X-Robots-Tag:noindex
X-PUBLISHED-TTL:PT1H
BEGIN:VTIMEZONE
TZID:Europe/Amsterdam
BEGIN:DAYLIGHT
TZOFFSETFROM:+0100
TZOFFSETTO:+0200
TZNAME:CEST
DTSTART:20230326T010000
END:DAYLIGHT
BEGIN:STANDARD
TZOFFSETFROM:+0200
TZOFFSETTO:+0100
TZNAME:CET
DTSTART:20231029T010000
END:STANDARD
BEGIN:DAYLIGHT
TZOFFSETFROM:+0100
TZOFFSETTO:+0200
TZNAME:CEST
DTSTART:20240331T010000
END:DAYLIGHT
BEGIN:STANDARD
TZOFFSETFROM:+0200
TZOFFSETTO:+0100
TZNAME:CET
DTSTART:20241027T010000
END:STANDARD
BEGIN:DAYLIGHT
TZOFFSETFROM:+0100
TZOFFSETTO:+0200
TZNAME:CEST
DTSTART:20250330T010000
END:DAYLIGHT
BEGIN:STANDARD
TZOFFSETFROM:+0200
TZOFFSETTO:+0100
TZNAME:CET
DTSTART:20251026T010000
END:STANDARD
END:VTIMEZONE
BEGIN:VEVENT
DTSTART;VALUE=DATE:20240901
DTEND;VALUE=DATE:20240902
DTSTAMP:20260424T100038
CREATED:20240403T084900Z
LAST-MODIFIED:20240403T085022Z
UID:4430-1725148800-1725235199@mcb-bregenz.at
SUMMARY:RC-E7 Landesmeisterschaft
DESCRIPTION:Ausschreibung 2. Vorarlberger RC-E7 Wettbewerb mit LM
URL:https://mcb-bregenz.at/event/rc-e7-landesmeisterschaft-2/
LOCATION:Flugplatz MFG Feldkirch\, Modellfluggruppe Feldkirch-Montfort\, Riedweg\, Feldkirch\, 6800\, Österreich
CATEGORIES:Wettbewerb
ATTACH;FMTTYPE=image/jpeg:https://mcb-bregenz.at/wp-content/uploads/events-aeroclub.jpg
END:VEVENT
BEGIN:VEVENT
DTSTART;VALUE=DATE:20240901
DTEND;VALUE=DATE:20240902
DTSTAMP:20260424T100038
CREATED:20240702T121810Z
LAST-MODIFIED:20240702T121810Z
UID:4593-1725148800-1725235199@mcb-bregenz.at
SUMMARY:Schaufliegen MFG Liechtenstein
DESCRIPTION:
URL:https://mcb-bregenz.at/event/schaufliegen-mfg-liechtenstein/
LOCATION:Modelllfugplatz Bendern\, Gamprin\, 9492\, Liechtenstein
CATEGORIES:Flugtag
ATTACH;FMTTYPE=image/jpeg:https://mcb-bregenz.at/wp-content/uploads/events-flugtag.jpg
END:VEVENT
BEGIN:VEVENT
DTSTART;VALUE=DATE:20240906
DTEND;VALUE=DATE:20240909
DTSTAMP:20260424T100038
CREATED:20230309T075910Z
LAST-MODIFIED:20240202T070231Z
UID:3709-1725580800-1725839999@mcb-bregenz.at
SUMMARY:Glider Expo Hülben
DESCRIPTION:
URL:https://mcb-bregenz.at/event/glider-expo-huelben-2/
LOCATION:Flugplatz Hülben\, Deutschland
CATEGORIES:Messe
ATTACH;FMTTYPE=image/jpeg:https://mcb-bregenz.at/wp-content/uploads/events-messe-huelben.jpg
END:VEVENT
BEGIN:VEVENT
DTSTART;TZID=Europe/Amsterdam:20240907T100000
DTEND;TZID=Europe/Amsterdam:20240907T180000
DTSTAMP:20260424T100038
CREATED:20240113T101704Z
LAST-MODIFIED:20240702T071700Z
UID:4287-1725703200-1725732000@mcb-bregenz.at
SUMMARY:19. Dreiländereck Helitreffen - Neuer Termin
DESCRIPTION:Neuer Termin 7. September!
URL:https://mcb-bregenz.at/event/19-dreilaendereck-helitreffen/
LOCATION:Flugplatz MCB Bregenz\, Königswiesen\, 6971 Fußach\, Österreich
CATEGORIES:Flugtag,MCB Veranstaltung
ATTACH;FMTTYPE=image/jpeg:https://mcb-bregenz.at/wp-content/uploads/events-helitreffen-2024.jpg
END:VEVENT
BEGIN:VEVENT
DTSTART;TZID=Europe/Amsterdam:20240919T190000
DTEND;TZID=Europe/Amsterdam:20240919T190000
DTSTAMP:20260424T100038
CREATED:20240415T140228Z
LAST-MODIFIED:20240913T061058Z
UID:4541-1726772400-1726772400@mcb-bregenz.at
SUMMARY:MCB Clubabend
DESCRIPTION:
URL:https://mcb-bregenz.at/event/mcb-clubabend-15/
LOCATION:Stögi´s\, Hard
CATEGORIES:MCB Veranstaltung
ATTACH;FMTTYPE=image/png:https://mcb-bregenz.at/wp-content/uploads/events-mcb.png
END:VEVENT
BEGIN:VEVENT
DTSTART;VALUE=DATE:20240921
DTEND;VALUE=DATE:20240922
DTSTAMP:20260424T100038
CREATED:20240415T062748Z
LAST-MODIFIED:20240415T062748Z
UID:4520-1726876800-1726963199@mcb-bregenz.at
SUMMARY:RC-III Landesmeisterschaft / Westcup
DESCRIPTION:
URL:https://mcb-bregenz.at/event/rc-iii-landesmeisterschaft-westcup/
LOCATION:Flugplatz MSFC Rheintal\, Gutshofstraße\, Koblach\, 6842\, Österreich
CATEGORIES:Wettbewerb
ATTACH;FMTTYPE=image/jpeg:https://mcb-bregenz.at/wp-content/uploads/events-aeroclub.jpg
END:VEVENT
BEGIN:VEVENT
DTSTART;TZID=Europe/Amsterdam:20240921T110000
DTEND;TZID=Europe/Amsterdam:20240921T180000
DTSTAMP:20260424T100038
CREATED:20240917T070451Z
LAST-MODIFIED:20240917T070451Z
UID:4788-1726916400-1726941600@mcb-bregenz.at
SUMMARY:MCB Vereinsfest & Flugtag 2024
DESCRIPTION:
URL:https://mcb-bregenz.at/event/mcb-vereinsfest-flugtag-2024/
LOCATION:Flugplatz MCB Bregenz\, Königswiesen\, 6971 Fußach\, Österreich
CATEGORIES:Flugtag,MCB Veranstaltung
ATTACH;FMTTYPE=image/png:https://mcb-bregenz.at/wp-content/uploads/events-mcb.png
END:VEVENT
BEGIN:VEVENT
DTSTART;VALUE=DATE:20240922
DTEND;VALUE=DATE:20240923
DTSTAMP:20260424T100038
CREATED:20240415T062903Z
LAST-MODIFIED:20240415T062903Z
UID:4523-1726963200-1727049599@mcb-bregenz.at
SUMMARY:F3A Rheintalpokal
DESCRIPTION:
URL:https://mcb-bregenz.at/event/f3a-rheintalpokal/
LOCATION:Flugplatz MSFC Rheintal\, Gutshofstraße\, Koblach\, 6842\, Österreich
CATEGORIES:Wettbewerb
ATTACH;FMTTYPE=image/jpeg:https://mcb-bregenz.at/wp-content/uploads/events-aeroclub.jpg
END:VEVENT
BEGIN:VEVENT
DTSTART;VALUE=DATE:20240929
DTEND;VALUE=DATE:20240930
DTSTAMP:20260424T100038
CREATED:20240415T063034Z
LAST-MODIFIED:20240415T063035Z
UID:4525-1727568000-1727654399@mcb-bregenz.at
SUMMARY:Freundschaftsfliegen / Oktoberfest
DESCRIPTION:
URL:https://mcb-bregenz.at/event/freundschaftsfliegen-oktoberfest/
LOCATION:Flugplatz MBG Schlins\, Modellflugplatz Schlins\, Bildacker 8\, 6824 Schlins\, Österreich
CATEGORIES:Flugtag
ATTACH;FMTTYPE=image/jpeg:https://mcb-bregenz.at/wp-content/uploads/events-flugtag.jpg
END:VEVENT
END:VCALENDAR